BEGIN:VCALENDAR
VERSION:2.0
PRODID:-//Women in Networking - ECPv6.15.20//NONSGML v1.0//EN
CALSCALE:GREGORIAN
METHOD:PUBLISH
X-ORIGINAL-URL:https://winlz.com
X-WR-CALDESC:Events for Women in Networking
REFRESH-INTERVAL;VALUE=DURATION:PT1H
X-Robots-Tag:noindex
X-PUBLISHED-TTL:PT1H
BEGIN:VTIMEZONE
TZID:America/Chicago
BEGIN:DAYLIGHT
TZOFFSETFROM:-0600
TZOFFSETTO:-0500
TZNAME:CDT
DTSTART:20250309T080000
END:DAYLIGHT
BEGIN:STANDARD
TZOFFSETFROM:-0500
TZOFFSETTO:-0600
TZNAME:CST
DTSTART:20251102T070000
END:STANDARD
BEGIN:DAYLIGHT
TZOFFSETFROM:-0600
TZOFFSETTO:-0500
TZNAME:CDT
DTSTART:20260308T080000
END:DAYLIGHT
BEGIN:STANDARD
TZOFFSETFROM:-0500
TZOFFSETTO:-0600
TZNAME:CST
DTSTART:20261101T070000
END:STANDARD
BEGIN:DAYLIGHT
TZOFFSETFROM:-0600
TZOFFSETTO:-0500
TZNAME:CDT
DTSTART:20270314T080000
END:DAYLIGHT
BEGIN:STANDARD
TZOFFSETFROM:-0500
TZOFFSETTO:-0600
TZNAME:CST
DTSTART:20271107T070000
END:STANDARD
END:VTIMEZONE
BEGIN:VEVENT
DTSTART;TZID=America/Chicago:20260514T080000
DTEND;TZID=America/Chicago:20260514T094500
DTSTAMP:20260422T091954
CREATED:20250310T012611Z
LAST-MODIFIED:20260328T232757Z
UID:599-1778745600-1778751900@winlz.com
SUMMARY:Bi-Monthly Networking
DESCRIPTION:Speakers and small breakout networking sessions \nNEW LOCATION
URL:https://winlz.com/event/bi-monthly-networking/
LOCATION:Ela Town Hall\, 1155 E. Route 22\, Lake Zurich\, 60047\, United States
CATEGORIES:business,networking
ATTACH;FMTTYPE=image/png:https://winlz.com/wp-content/uploads/event-icon-07.png
END:VEVENT
BEGIN:VEVENT
DTSTART;TZID=America/Chicago:20260610T080000
DTEND;TZID=America/Chicago:20260610T094500
DTSTAMP:20260422T091954
CREATED:20250813T013619Z
LAST-MODIFIED:20260328T232926Z
UID:610-1781078400-1781084700@winlz.com
SUMMARY:Bi-Monthly Networking Meeting
DESCRIPTION:With speakers and small breakout networking sessions
URL:https://winlz.com/event/bi-monthly-networking-meeting-2/
LOCATION:Ela Town Hall\, 1155 E. Route 22\, Lake Zurich\, 60047\, United States
CATEGORIES:business,networking
ATTACH;FMTTYPE=image/png:https://winlz.com/wp-content/uploads/event-icon-07.png
END:VEVENT
END:VCALENDAR